{"text_format":"3","workbook":"xlsx","n_sheets":2,"sheets":["柳州银行应聘报名表","汇总表"],"not_rendered":{"defined_names":1},"read":"whole","date_system":"1900"}

{"sheet":"柳州银行应聘报名表","index":0,"n_rows":58,"n_cols":8,"rows_kept":58,"merged":[[0,0,0,7],[1,0,1,7],[2,1,2,3],[2,5,2,7],[3,0,3,7],[4,1,4,2],[4,7,7,7],[5,1,5,2],[6,1,6,2],[7,1,7,2],[8,1,8,2],[8,6,8,7],[9,1,9,2],[9,6,9,7],[10,1,10,4],[10,6,10,7],[11,0,11,7],[12,0,12,7],[13,0,13,7],[14,2,14,4],[15,2,15,4],[16,2,16,4],[17,2,17,4],[18,2,18,4],[19,2,19,4],[20,0,20,7],[21,2,21,3],[21,4,21,5],[22,2,22,3],[22,4,22,5],[23,2,23,3],[23,4,23,5],[24,2,24,3],[24,4,24,5],[25,2,25,3],[25,4,25,5],[26,2,26,3],[26,4,26,5],[27,0,27,7],[28,0,28,7],[29,0,29,7],[30,0,30,7],[31,0,31,7],[32,0,32,7],[33,0,33,1],[33,2,33,3],[33,4,33,7],[34,0,34,1],[34,2,34,3],[34,4,34,7],[35,0,35,1],[35,2,35,3],[35,4,35,7],[36,0,36,7],[37,0,37,1],[37,2,37,3],[37,4,37,7],[38,0,38,1],[38,2,38,3],[38,4,38,7],[39,0,39,1],[39,2,39,3],[39,4,39,7],[40,0,40,7],[41,1,41,2],[41,4,41,6],[42,1,42,2],[42,4,42,6],[43,1,43,2],[43,4,43,6],[44,1,44,2],[44,4,44,6],[45,1,45,2],[45,4,45,6],[46,1,46,2],[46,4,46,6],[47,0,47,7],[48,0,48,7],[49,1,49,2],[49,4,49,6],[50,1,50,2],[50,4,50,6],[51,1,51,2],[51,4,51,6],[52,0,52,7],[53,0,53,7],[54,0,55,7],[56,0,56,7],[57,0,57,7]]}
["柳州银行应聘报名表"]
["应聘信息"]
["应聘岗位",{"$nulls":3},"工作地点"]
["个人基本信息"]
["姓名",null,null,"曾用名",null,"性别",null,"一寸证件照"]
["户籍",null,null,"民族",null,"出生日期"]
["身高(cm)",null,null,"体检情况",null,"婚姻状况"]
["政治面貌",null,null,"最高学历",null,"职称"]
["英语水平",null,null,"其他外语",null,"证书"]
["身份证号码",null,null,"联系电话",null,"电子邮箱"]
["现家庭    居住地",{"$nulls":4},"邮政编码"]
["目前待遇        元/年     希望待遇         元/年       是否服从调剂："]
["教育经历"]
["受教育详细情况(从最高学历填起)"]
["开始时间","结束时间","学校名称",null,null,"所学专业 名称","学历    （学位）","教育类型"]
[]
[]
[null,null," "]
[]
[]
["工作经历"]
["开始时间","结束时间","单位名称",null,"职务",null,"用工性质","证明人及\n联系方式"]
[]
[]
[]
[]
[]
["业绩成果"]
[]
[]
[]
[]
["奖励记录（没有请填无）"]
["奖励时间",null,"奖励单位",null,"奖励内容"]
[]
[]
["惩罚记录（没有请填无）"]
["惩罚时间",null,"惩罚单位",null,"惩罚内容"]
[]
[]
["家庭成员及重要社会关系"]
["关系","姓名",null,"年龄","单位名称",null,null,"职务"]
["配偶"]
["子女"]
["父亲"]
["母亲"]
["其他"]
["请如实、完整地填写“家庭成员及重要社会关系”一栏，并保证信息的完整性和真实性。"]
["柳州银行亲属关系"]
["关系","姓名",null,"年龄","单位名称",null,null,"职务"]
[]
[]
["亲属中如有在柳州银行及各柳银村镇银行工作的，必须在上表中逐一列明。"]
["其他说明"]
["爱好、特长："]
[]
["声明：本人承诺以上信息完全属实且未隐瞒柳州银行应知悉的重要信息，如有不实信息或隐瞒柳州银行应知悉的重要信息，本人同意柳州银行取消本人应聘资格，并承担由此引起的责任和后果。"]
["                               填表人签字：            日期：   年  月  日"]

{"sheet":"汇总表","index":1,"n_rows":7,"n_cols":31,"rows_kept":7,"merged":[[0,0,0,1],[0,2,0,13],[0,15,0,20],[0,22,0,25],[0,26,0,30]]}
["应聘信息",null,"个人基本信息",{"$nulls":12},"教育情况",{"$nulls":6},"工作经历",{"$nulls":3},"家庭成员及重要社会关系"]
["应聘岗位","工作地点","姓名","性别","出生年月","身高（cm）","民族","婚姻状况","户籍","政治面貌","职称","现家庭住址","身份证号码","联系电话","电子邮箱","最高学历（学位）","教育类型","起止时间","毕业院校及专业","英语水平","其他外语","证书","起止时间","单位及职务","用工性质","证明人及联系方式","称谓","姓名","年龄","单位名称","职务"]
[{"$f":"柳州银行应聘报名表!B3","v":0},{"$f":"柳州银行应聘报名表!F3","v":0},{"$f":"柳州银行应聘报名表!B5","v":0},{"$f":"柳州银行应聘报名表!G5","v":0},{"$f":"柳州银行应聘报名表!G6","v":0},{"$f":"柳州银行应聘报名表!B7","v":0},{"$f":"柳州银行应聘报名表!E6","v":0},{"$f":"柳州银行应聘报名表!G7","v":0},{"$f":"柳州银行应聘报名表!B6","v":0},{"$f":"柳州银行应聘报名表!B8","v":0},{"$f":"柳州银行应聘报名表!G8","v":0},{"$f":"柳州银行应聘报名表!B11","v":0},{"$f":"柳州银行应聘报名表!B10","v":0},{"$f":"柳州银行应聘报名表!E10","v":0},{"$f":"柳州银行应聘报名表!G10","v":0},{"$f":"柳州银行应聘报名表!G16","v":0},{"$f":"柳州银行应聘报名表!H16","v":0},{"$f":"柳州银行应聘报名表!A16&\"-\"&柳州银行应聘报名表!B16","v":"-"},{"$f":"柳州银行应聘报名表!C16&柳州银行应聘报名表!F16","v":""},{"$f":"柳州银行应聘报名表!C9","v":0},{"$f":"柳州银行应聘报名表!E9","v":0},{"$f":"柳州银行应聘报名表!G9","v":0},{"$f":"柳州银行应聘报名表!A23&\"-\"&柳州银行应聘报名表!B23","v":"-"},{"$f":"柳州银行应聘报名表!C23&柳州银行应聘报名表!E23","v":""},{"$f":"柳州银行应聘报名表!G23","v":0},{"$f":"柳州银行应聘报名表!H23","v":0},"配偶",{"$f":"柳州银行应聘报名表!B43","v":0},{"$f":"柳州银行应聘报名表!D43","v":0},{"$f":"柳州银行应聘报名表!E43","v":0},{"$f":"柳州银行应聘报名表!H43","v":0}]
[{"$nulls":18},{"$f":"柳州银行应聘报名表!C18","v":" "},{"$nulls":3},{"$f":"柳州银行应聘报名表!A24&\"-\"&柳州银行应聘报名表!B24","v":"-"},{"$f":"柳州银行应聘报名表!C24&柳州银行应聘报名表!E24","v":""},{"$f":"柳州银行应聘报名表!G24","v":0},{"$f":"柳州银行应聘报名表!H24","v":0},"子女",{"$f":"柳州银行应聘报名表!B44","v":0},{"$f":"柳州银行应聘报名表!D44","v":0},{"$f":"柳州银行应聘报名表!E44","v":0},{"$f":"柳州银行应聘报名表!H44","v":0}]
[{"$nulls":22},{"$f":"柳州银行应聘报名表!A25&\"-\"&柳州银行应聘报名表!B25","v":"-"},{"$f":"柳州银行应聘报名表!C25&柳州银行应聘报名表!E25","v":""},{"$f":"柳州银行应聘报名表!G25","v":0},{"$f":"柳州银行应聘报名表!H25","v":0},"父亲",{"$f":"柳州银行应聘报名表!B45","v":0},{"$f":"柳州银行应聘报名表!D45","v":0},{"$f":"柳州银行应聘报名表!E45","v":0},{"$f":"柳州银行应聘报名表!H45","v":0}]
[{"$nulls":22},{"$f":"柳州银行应聘报名表!A26&\"-\"&柳州银行应聘报名表!B26","v":"-"},{"$f":"柳州银行应聘报名表!C26&柳州银行应聘报名表!E26","v":""},{"$f":"柳州银行应聘报名表!G26","v":0},{"$f":"柳州银行应聘报名表!H26","v":0},"母亲",{"$f":"柳州银行应聘报名表!B46","v":0},{"$f":"柳州银行应聘报名表!D46","v":0},{"$f":"柳州银行应聘报名表!E46","v":0},{"$f":"柳州银行应聘报名表!H46","v":0}]
[{"$nulls":22},{"$f":"柳州银行应聘报名表!A27&\"-\"&柳州银行应聘报名表!B27","v":"-"},{"$f":"柳州银行应聘报名表!C27&柳州银行应聘报名表!E27","v":""},{"$f":"柳州银行应聘报名表!G27","v":0},{"$f":"柳州银行应聘报名表!H27","v":0},"其他",{"$f":"柳州银行应聘报名表!B47","v":0},{"$f":"柳州银行应聘报名表!D47","v":0},{"$f":"柳州银行应聘报名表!E47","v":0},{"$f":"柳州银行应聘报名表!H47","v":0}]